BEGIN:VCALENDAR
VERSION:2.0
PRODID:-//Glencoe &amp; District Historical Society - ECPv6.0.9//NONSGML v1.0//EN
CALSCALE:GREGORIAN
METHOD:PUBLISH
X-ORIGINAL-URL:https://glencoehistoricalsociety.ca
X-WR-CALDESC:Events for Glencoe &amp; District Historical Society
REFRESH-INTERVAL;VALUE=DURATION:PT1H
X-Robots-Tag:noindex
X-PUBLISHED-TTL:PT1H
BEGIN:VTIMEZONE
TZID:America/Toronto
BEGIN:DAYLIGHT
TZOFFSETFROM:-0500
TZOFFSETTO:-0400
TZNAME:EDT
DTSTART:20250309T070000
END:DAYLIGHT
BEGIN:STANDARD
TZOFFSETFROM:-0400
TZOFFSETTO:-0500
TZNAME:EST
DTSTART:20251102T060000
END:STANDARD
END:VTIMEZONE
BEGIN:VEVENT
DTSTART;TZID=America/Toronto:20250607T190000
DTEND;TZID=America/Toronto:20250607T210000
DTSTAMP:20260423T185521
CREATED:20250108T035957Z
LAST-MODIFIED:20250621T150916Z
UID:2809-1749322800-1749330000@glencoehistoricalsociety.ca
SUMMARY:June 4\, 5\, 7\, 8       Play by Len Cuthbert
DESCRIPTION:BLUE SIDE UP\, a play by Len Cuthbert\nA great new contemporary play.  Eight members attended the June 7th Strathroy performance at the developing Wright Centre.  We were pleased to meet members of the Board of Directors.  Let’s support this wonderful project to bring a performing arts centre to downtown Strathroy.  – Mary Simpson\, Pres\, G&DHS.   \n\n\nMary Simpson: We love Len’s plays – he writes plays about us.  Plays about southwestern Ontario.  Plays about our people and culture.  Len Cuthbert wrote 2023’s Lawrence Station & 2024’s Snapshots)\nThis is a  play for all those who love flying…. For those who love looking down at the earth from a few meters or thousands of metres above the earth’s surface.  Let’s meet the four characters.  There are six performances to choose from.   \n$20 adv / $25 door        Buy TICKETS ONLINE here at  www.OnStageLive.ca \nWritten and produced by Len Cuthbert\,  ONSTAGELIVE.ca\nDates: Wed. Jun 4 @ 7 pm at the Keystone Complex\, Shedden\, ON \nThur. Jun 5 @ 2 pm at the Keystone Complex\, Shedden\, ON \nThur. Jun 5 @ 7 pm at the Keystone Complex\, Shedden\, ON \nSat. Jun 7 @ 2 pm at The Wright Place\, Strathroy\, ON \nSat. Jun 7 @ 7 pm at The Wright Place\, Strathroy\, ON \nSun. Jun 8 @ 2 pm at The  Wright Place\, Strathroy\, ON \nTICKETS / INFO @ www.OnStageLive.ca \n\n\nFrom the playwright: \n\nDid you know that there are between 12\,000 and 14\,000 aircraft in the air at one time?\n\nI was on one of them at the end of March break\, in the very back seat\, waiting to land at Toronto Pearson during very turbulent weather. It was so rough\, that as we were on the final approach\, (in the same type of aircraft as the Delta flight that rolled over in a crash at Pearson recently)\, I had a strong feeling that the pilot would choose to abort the landing. Sure enough\, the engines spooled up and the pilot conducted a missed approach\, and off we went. When this happens\, it’s a busy scene in the cockpit with cleaning the aircraft up (flaps\, spoilers\, gear\, and anything else that’s sticking out) changing charts\, frequencies and plans to head into a new approach pattern. It’s hard to tell all that’s going on in the back seat\, so after we arrived home\, I went to a website where you can watch all active flights all over the world. There\, you can look up your most recent flight and see the route with all flight details like speed and altitude. I found our flight and discovered that the pilot opted to change runways in the process which resulted in a perfect landing. Go here and watch some serious live aircraft activity. https://www.flightradar24.com/\n\n\n\n\n\n\nCome take flight with these four unique characters as they surprise you with the unexpected experiences of life that make it hard to keep the blue side up. \n\nMick\, a young pilot/aircraft mechanic of a small airport in Welland also acts as the airport manager in exchange for living space above the hangar\, where he is guardian of his 13 year old sister left in his care by his deceased parents. He understands aircraft\, but not so much raising a teen sister.\nDee-J just turned 13 and is growing up in an apartment above an airport hangar while her classmates have normal lives in normal homes. But what is normal? She’s an adventurous teen who loves to fly.\nJade was abandoned by her mother as a child and grew up in the foster system. She is friends with Mick and Dee-J and occasionally helps Mick with raising Dee-J. But Mick and Jade operate completely differently making their relationship interesting. She also works part time for Mick while taking classes at college.\nDelilah is everyone’s friend and Jade’s college roommate. She’s compassionate and caring and wouldn’t have experienced half the adventures if it weren’t for her controlling and needy friend Jade.\n\nSupported by The Wright Foundation & Township of Southwold \nBlue Side Up. Play by Len Cuthbert.
URL:https://glencoehistoricalsociety.ca/event/2809/
LOCATION:The Wright Place\, 113 Front Street\, Strathroy\, Ontario\, N7G 1X5\, Canada
ATTACH;FMTTYPE=image/png:https://glencoehistoricalsociety.ca/wp-content/uploads/2025/01/Bluesideup.png
END:VEVENT
END:VCALENDAR