BEGIN:VCALENDAR
VERSION:2.0
PRODID:-//Glencoe &amp; District Historical Society - ECPv6.0.9//NONSGML v1.0//EN
CALSCALE:GREGORIAN
METHOD:PUBLISH
X-WR-CALNAME:Glencoe &amp; District Historical Society
X-ORIGINAL-URL:https://glencoehistoricalsociety.ca
X-WR-CALDESC:Events for Glencoe &amp; District Historical Society
REFRESH-INTERVAL;VALUE=DURATION:PT1H
X-Robots-Tag:noindex
X-PUBLISHED-TTL:PT1H
BEGIN:VTIMEZONE
TZID:America/Toronto
BEGIN:DAYLIGHT
TZOFFSETFROM:-0500
TZOFFSETTO:-0400
TZNAME:EDT
DTSTART:20250309T070000
END:DAYLIGHT
BEGIN:STANDARD
TZOFFSETFROM:-0400
TZOFFSETTO:-0500
TZNAME:EST
DTSTART:20251102T060000
END:STANDARD
END:VTIMEZONE
BEGIN:VEVENT
DTSTART;TZID=America/Toronto:20250507T190000
DTEND;TZID=America/Toronto:20250507T210000
DTSTAMP:20260423T201603
CREATED:20241205T231355Z
LAST-MODIFIED:20250513T110227Z
UID:2732-1746644400-1746651600@glencoehistoricalsociety.ca
SUMMARY:May 7 - The Bandit of Skunk's Misery
DESCRIPTION:Artice by Paul Langan about Orval Shaw – click here. \nPaul Langan is going to tell us about the legend of Orval Shaw—The Bandit of Skunk’s Misery.  We often hear fragments of stories and myths.  Paul has done the research.  He is going to talk about the process of collecting information for historical books and about how this booklet came together.   \nOrval Shaw never killed anyone or committed any major crime\, yet from 1921 to 1934\, Orval’s life of petty crimes led to some of the most sensational police hunts to try and capture him. \nArticle published in the Middlesex Banner. \nBook is also available from Amazon.  The Bandit of Skunk’s Misery is only paperback; no e-book options available . \n  \n \n\nOn April 3\, 1929\, in Hespeler\, Ontario\, the greatest force of police anywhere in Canada was assembled to search for the “mystery man of Skunk’s Misery.”  For the first time ever\, historian and author Paul Langan has collected all the known published information on Orval into one book.  Local connection: Paul’s mother’s family\, the Doyle’s\,  are from 9th Concession of Raleigh Township. \nBook released- 11/13/2024 – ISBN 978-1998829408 \nWe will have books for sale at this book signing event. \nIn the meantime\, to order his book(s): \nWORDSWORTH BOOKS in Waterloo\, Ontario carries all Paul Langan books in print. \nBooklet is also available from Amazon.  The Bandit of Skunk’s Misery is only paperback; no e-book options available . \nEventbrite link. \nJoin Zoom Meeting\nhttps://zoom.us/j/94652720491?pwd=ab6GOBN1CCQSwRQ6dE3b7UIm0xoeaA.1 \nMeeting ID: 946 5272 0491\nPasscode: 883873 \n— \nOne tap mobile\n+13126266799\,\,94652720491#\,\,\,\,*883873# US (Chicago)\n+13462487799\,\,94652720491#\,\,\,\,*883873# US (Houston) \n— \nDial by your location\n• +1 312 626 6799 US (Chicago)\n• +1 346 248 7799 US (Houston)\n• +1 360 209 5623 US\n• +1 386 347 5053 US\n• +1 507 473 4847 US\n• +1 564 217 2000 US\n• +1 646 931 3860 US\n• +1 669 444 9171 US\n• +1 669 900 6833 US (San Jose)\n• +1 689 278 1000 US\n• +1 719 359 4580 US\n• +1 929 205 6099 US (New York)\n• +1 253 205 0468 US\n• +1 253 215 8782 US (Tacoma)\n• +1 301 715 8592 US (Washington DC)\n• +1 305 224 1968 US\n• +1 309 205 3325 US \nMeeting ID: 946 5272 0491\nPasscode: 883873 \nFind your local number: https://zoom.us/u/abZjWjWISN \n  \n 
URL:https://glencoehistoricalsociety.ca/event/may-7-the-bandit-of-skunks-misery/
LOCATION:The Archives\, 178 McKellar Street\, Glencoe (Southwest Middlesex)\, Ontario\, N0L 1M0\, Canada
ATTACH;FMTTYPE=image/jpeg:https://glencoehistoricalsociety.ca/wp-content/uploads/2024/12/IMG_5320.jpeg
ORGANIZER;CN="Glencoe%20%26%20District%20Historical%20Society":MAILTO:contactus@glencoehistoricalsociety.ca
END:VEVENT
END:VCALENDAR