BEGIN:VCALENDAR
VERSION:2.0
PRODID:-//Glencoe &amp; District Historical Society - ECPv6.0.9//NONSGML v1.0//EN
CALSCALE:GREGORIAN
METHOD:PUBLISH
X-WR-CALNAME:Glencoe &amp; District Historical Society
X-ORIGINAL-URL:https://glencoehistoricalsociety.ca
X-WR-CALDESC:Events for Glencoe &amp; District Historical Society
REFRESH-INTERVAL;VALUE=DURATION:PT1H
X-Robots-Tag:noindex
X-PUBLISHED-TTL:PT1H
BEGIN:VTIMEZONE
TZID:America/Toronto
BEGIN:DAYLIGHT
TZOFFSETFROM:-0500
TZOFFSETTO:-0400
TZNAME:EDT
DTSTART:20240310T070000
END:DAYLIGHT
BEGIN:STANDARD
TZOFFSETFROM:-0400
TZOFFSETTO:-0500
TZNAME:EST
DTSTART:20241103T060000
END:STANDARD
END:VTIMEZONE
BEGIN:VEVENT
DTSTART;TZID=America/Toronto:20240117T190000
DTEND;TZID=America/Toronto:20240117T210000
DTSTAMP:20260422T175958
CREATED:20231012T135231Z
LAST-MODIFIED:20250108T111138Z
UID:1559-1705518000-1705525200@glencoehistoricalsociety.ca
SUMMARY:Doug Ferguson: Ancestral Odyssey - The Family Ferguson
DESCRIPTION:Over 60 history buffs gathered\, in person and online\, to listen to Doug Ferguson as he described his “Ancestral Odyssey” at the Glencoe and District Historical Society Archives on Wednesday evening\, January 17. His Ferguson ancestors had left Craignish\, Argyleshire for Aldborough Twp. in 1818 and then moved to northern Mosa Twp. in 1827. The McDonalds left Inverness for Quebec in 1830\, before settling in Ekfrid Twp. in 1835.\n\n    \n\nHe added the “guest appearances” of the McColl and Livingstones in his family tree\, both families having left Port Appin\, Argyleshire for Ekfrid Twp. in the 1840s. Doug shared images from his own family’s trek to Scotland to visit their ancestors’ birthplaces. Describing his interest in genealogy as being sparked by his grandmother\, Annie (McDonald) Ferguson\, Doug concluded his presentation encouraging those present to become stewards in preserving their families’ histories and stories. – Marie Williams\n\n \nDoug Ferguson\, the Story Keeper\n \n\nDoug grew up in Brooke Township and is a lawyer in London. He taught for many years at the Faculty of Law at Western University\, and was president of Covent Garden Market when it was rebuilt in downtown London. He has many connections to Glencoe\, including drinking underage at the McKellar House.\n\n \n\nDoug inherited his father’s interest in politics\, being active locally\, provincially\, and nationally\, becoming President of the Liberal Party of Canada in 2008. In the 2011 federal election\, he ran as the Liberal candidate in London West.\n\n \n\nDoug has been active in the London community over the years. Among his many leadership roles\, he was President of Covent Garden Market when it was rebuilt and served as President of the Canadian Club of London. Recently he served on the board of the Thomas Talbot Land Trust.\n\n \n\nHe has also been active in the legal community at the provincial and national levels. Doug founded and served as the first president of the Canadian Association for Canadian Clinical Legal Education. He chaired the Legal Aid Committee for the Canadian Bar Association and was a director of the Ontario Bar Association. Currently he is on the board of the National Action Committee on Access to Justice.\n\n \n\nIn 2014\, after a diagnosis of liver cancer\, Doug underwent two liver transplants and miraculously lived to tell the tale. To pay back the gift of life he received\, he is the chair of the fundraising committee for the Transplant Unit at University Hospital. He continues to advocate for organ donation.\n\n \n\nWhile playing baseball in the Young People’s Softball League in Appin\, Doug met and married Anne McColl from Glencoe; they had two children\, Sarah and Duncan. After her passing\, he remarried Laurie Lashbrook from Rodney. Among the awards he has received are the
URL:https://glencoehistoricalsociety.ca/event/lecture-ancestral-odyssey-the-family-ferguson/
LOCATION:The Archives\, 178 McKellar Street\, Glencoe (Southwest Middlesex)\, Ontario\, N0L 1M0\, Canada
ATTACH;FMTTYPE=image/jpeg:https://glencoehistoricalsociety.ca/wp-content/uploads/2023/10/crofters.jpeg
ORGANIZER;CN="Glencoe%20%26%20District%20Historical%20Society":MAILTO:contactus@glencoehistoricalsociety.ca
END:VEVENT
END:VCALENDAR