BEGIN:VCALENDAR
VERSION:2.0
PRODID:-//Glencoe &amp; District Historical Society - ECPv6.0.9//NONSGML v1.0//EN
CALSCALE:GREGORIAN
METHOD:PUBLISH
X-WR-CALNAME:Glencoe &amp; District Historical Society
X-ORIGINAL-URL:https://glencoehistoricalsociety.ca
X-WR-CALDESC:Events for Glencoe &amp; District Historical Society
REFRESH-INTERVAL;VALUE=DURATION:PT1H
X-Robots-Tag:noindex
X-PUBLISHED-TTL:PT1H
BEGIN:VTIMEZONE
TZID:Asia/Karachi
BEGIN:STANDARD
TZOFFSETFROM:+0500
TZOFFSETTO:+0500
TZNAME:PKT
DTSTART:20230101T000000
END:STANDARD
END:VTIMEZONE
BEGIN:VEVENT
DTSTART;TZID=Asia/Karachi:20230315T190000
DTEND;TZID=Asia/Karachi:20230315T210000
DTSTAMP:20260423T073240
CREATED:20230110T164326Z
LAST-MODIFIED:20230308T104011Z
UID:1223-1678906800-1678914000@glencoehistoricalsociety.ca
SUMMARY:The Gaelic Language - Past\, Present and Future
DESCRIPTION:Come out to the beautifully preserved one-room school House in the Tait’s Community to be inspired to learn the Gaelic language. Trevor Aitkens will teach us some basic words and expressions and explain the meaning of familiar given names\, surnames and place names in our community.  Or join via Zoom \nGaelic originated in Scotland in 500 AD and was in common use up until the battle of Culloden in 1746. After this point\, support waned for the language to the point where it was in danger of becoming extinct.  During the latter half of the 19th century\, it was the 3rd most spoken language in Canada and actually had a bill tabled in the Senate to become an official language. \nTrevor Aitkens grew up in Brooke township\, Lambton County\, and lived with his grandmother who spoke Gaelic.  He regrets now that he didn’t take it up at the time. He studied a number of other languages but realized later that he needed to pay homage to his own heritage. Trevor stumbled upon a night school offering in Mississauga in 1998 and took up a 25-year learning period with the language. \nThis is a public event for all ages. \nThis is a hybrid event: Zoom and in person.  Here’s the instructions and links: \nTime: Mar 15\, 2023 07:00 PM Eastern Time (US and Canada) \nJoin Zoom Meeting\nhttps://us06web.zoom.us/j/82585128691?pwd=VURnVFlTdFNQL01laUkzSnBFQU1JUT09 \nMeeting ID: 825 8512 8691\nPasscode: 094665\nOne tap mobile\n+13863475053\,\,82585128691#\,\,\,\,*094665# US\n+15074734847\,\,82585128691#\,\,\,\,*094665# US \nDial by your location\n+1 386 347 5053 US\n+1 507 473 4847 US\n+1 564 217 2000 US\n+1 646 558 8656 US (New York)\n+1 646 931 3860 US\n+1 669 444 9171 US\n+1 689 278 1000 US\n+1 719 359 4580 US\n+1 720 707 2699 US (Denver)\n+1 253 205 0468 US\n+1 253 215 8782 US (Tacoma)\n+1 301 715 8592 US (Washington DC)\n+1 305 224 1968 US\n+1 309 205 3325 US\n+1 312 626 6799 US (Chicago)\n+1 346 248 7799 US (Houston)\n+1 360 209 5623 US\nMeeting ID: 825 8512 8691\nPasscode: 094665 \n 
URL:https://glencoehistoricalsociety.ca/event/lecture-scots-gaelic-past-present-and-future/
LOCATION:Tait’s Corners Community Centre\, 21365 Taits Road\, Glencoe\, ON\, N0L 1M0\, Canada
ATTACH;FMTTYPE=image/png:https://glencoehistoricalsociety.ca/wp-content/uploads/2023/01/Screenshot-2023-03-07-at-5.47.09-AM.png
ORGANIZER;CN="Glencoe%20%26%20District%20Historical%20Society":MAILTO:contactus@glencoehistoricalsociety.ca
END:VEVENT
END:VCALENDAR